BEGIN:VCALENDAR
VERSION:2.0
PRODID:-//C2CND - ECPv6.9.0//NONSGML v1.0//EN
CALSCALE:GREGORIAN
METHOD:PUBLISH
X-ORIGINAL-URL:https://build.c2cnd.org
X-WR-CALDESC:Events for C2CND
REFRESH-INTERVAL;VALUE=DURATION:PT1H
X-Robots-Tag:noindex
X-PUBLISHED-TTL:PT1H
BEGIN:VTIMEZONE
TZID:America/New_York
BEGIN:DAYLIGHT
TZOFFSETFROM:-0500
TZOFFSETTO:-0400
TZNAME:EDT
DTSTART:20170312T070000
END:DAYLIGHT
BEGIN:STANDARD
TZOFFSETFROM:-0400
TZOFFSETTO:-0500
TZNAME:EST
DTSTART:20171105T060000
END:STANDARD
BEGIN:DAYLIGHT
TZOFFSETFROM:-0500
TZOFFSETTO:-0400
TZNAME:EDT
DTSTART:20180311T070000
END:DAYLIGHT
BEGIN:STANDARD
TZOFFSETFROM:-0400
TZOFFSETTO:-0500
TZNAME:EST
DTSTART:20181104T060000
END:STANDARD
BEGIN:DAYLIGHT
TZOFFSETFROM:-0500
TZOFFSETTO:-0400
TZNAME:EDT
DTSTART:20190310T070000
END:DAYLIGHT
BEGIN:STANDARD
TZOFFSETFROM:-0400
TZOFFSETTO:-0500
TZNAME:EST
DTSTART:20191103T060000
END:STANDARD
BEGIN:DAYLIGHT
TZOFFSETFROM:-0500
TZOFFSETTO:-0400
TZNAME:EDT
DTSTART:20200308T070000
END:DAYLIGHT
BEGIN:STANDARD
TZOFFSETFROM:-0400
TZOFFSETTO:-0500
TZNAME:EST
DTSTART:20201101T060000
END:STANDARD
BEGIN:DAYLIGHT
TZOFFSETFROM:-0500
TZOFFSETTO:-0400
TZNAME:EDT
DTSTART:20210314T070000
END:DAYLIGHT
BEGIN:STANDARD
TZOFFSETFROM:-0400
TZOFFSETTO:-0500
TZNAME:EST
DTSTART:20211107T060000
END:STANDARD
BEGIN:DAYLIGHT
TZOFFSETFROM:-0500
TZOFFSETTO:-0400
TZNAME:EDT
DTSTART:20220313T070000
END:DAYLIGHT
BEGIN:STANDARD
TZOFFSETFROM:-0400
TZOFFSETTO:-0500
TZNAME:EST
DTSTART:20221106T060000
END:STANDARD
BEGIN:DAYLIGHT
TZOFFSETFROM:-0500
TZOFFSETTO:-0400
TZNAME:EDT
DTSTART:20230312T070000
END:DAYLIGHT
BEGIN:STANDARD
TZOFFSETFROM:-0400
TZOFFSETTO:-0500
TZNAME:EST
DTSTART:20231105T060000
END:STANDARD
BEGIN:DAYLIGHT
TZOFFSETFROM:-0500
TZOFFSETTO:-0400
TZNAME:EDT
DTSTART:20240310T070000
END:DAYLIGHT
BEGIN:STANDARD
TZOFFSETFROM:-0400
TZOFFSETTO:-0500
TZNAME:EST
DTSTART:20241103T060000
END:STANDARD
BEGIN:DAYLIGHT
TZOFFSETFROM:-0500
TZOFFSETTO:-0400
TZNAME:EDT
DTSTART:20250309T070000
END:DAYLIGHT
BEGIN:STANDARD
TZOFFSETFROM:-0400
TZOFFSETTO:-0500
TZNAME:EST
DTSTART:20251102T060000
END:STANDARD
END:VTIMEZONE
BEGIN:VEVENT
DTSTART;TZID=America/New_York:20251018T100000
DTEND;TZID=America/New_York:20251018T140000
DTSTAMP:20260423T073646
CREATED:20170927T214114Z
LAST-MODIFIED:20170927T214114Z
UID:1981-1760781600-1760796000@build.c2cnd.org
SUMMARY:PetSmart Concord
DESCRIPTION:Come on out to PetSmart Concord and meet your next best friend. Please feel free to bring your family and your pet and be sure to talk with our volunteer staff. We are here to answer your questions and let you get acquainted with the pets. \nWe look forward to seeing you there!
URL:https://build.c2cnd.org/event/petsmart-concord-2025-10-18/
LOCATION:PetSmart – Concord\, 6070 Bayfield Pkwy\, Concord\, NC\, 28027\, United States
CATEGORIES:Adoption
ATTACH;FMTTYPE=image/jpeg:https://build.c2cnd.org/wp-content/uploads/2017/09/Afton-Ridge_Petsmart.jpg
ORGANIZER;CN="Catering to Cats and Dogs":MAILTO:webmaster@c2cnd.org
END:VEVENT
BEGIN:VEVENT
DTSTART;TZID=America/New_York:20251016T100000
DTEND;TZID=America/New_York:20251016T150000
DTSTAMP:20260423T073646
CREATED:20171004T203220Z
LAST-MODIFIED:20171004T203220Z
UID:1979-1760608800-1760626800@build.c2cnd.org
SUMMARY:Costume Pawty
DESCRIPTION:Super Hero Costume Pawty\n!!THIS IS A FAKE AND TEST EVENT!!\nCome decked out in your best Super dog costume! \nTerrapin Tap takeover featuring $5 drafts and $3.50 cans. \nDonations to enter the contest with 100% of proceeds given to Catering to Cats and Dogs. \n 
URL:https://build.c2cnd.org/event/costume-pawty-2025-10-16/
LOCATION:Lucky Dog Bark & Brew\, 2220 Thrift Rd\, Charlotte\, NC\, 28208\, United States
CATEGORIES:Adoption
ATTACH;FMTTYPE=image/png:https://build.c2cnd.org/wp-content/uploads/2017/09/LuckyDog-Logo1.png
ORGANIZER;CN="Catering to Cats and Dogs":MAILTO:webmaster@c2cnd.org
END:VEVENT
BEGIN:VEVENT
DTSTART;TZID=America/New_York:20251011T100000
DTEND;TZID=America/New_York:20251011T140000
DTSTAMP:20260423T073646
CREATED:20170927T214114Z
LAST-MODIFIED:20170927T214114Z
UID:1978-1760176800-1760191200@build.c2cnd.org
SUMMARY:PetSmart Concord
DESCRIPTION:Come on out to PetSmart Concord and meet your next best friend. Please feel free to bring your family and your pet and be sure to talk with our volunteer staff. We are here to answer your questions and let you get acquainted with the pets. \nWe look forward to seeing you there!
URL:https://build.c2cnd.org/event/petsmart-concord-2025-10-11/
LOCATION:PetSmart – Concord\, 6070 Bayfield Pkwy\, Concord\, NC\, 28027\, United States
CATEGORIES:Adoption
ATTACH;FMTTYPE=image/jpeg:https://build.c2cnd.org/wp-content/uploads/2017/09/Afton-Ridge_Petsmart.jpg
ORGANIZER;CN="Catering to Cats and Dogs":MAILTO:webmaster@c2cnd.org
END:VEVENT
BEGIN:VEVENT
DTSTART;TZID=America/New_York:20251009T100000
DTEND;TZID=America/New_York:20251009T150000
DTSTAMP:20260423T073646
CREATED:20171004T203220Z
LAST-MODIFIED:20171004T203220Z
UID:1977-1760004000-1760022000@build.c2cnd.org
SUMMARY:Costume Pawty
DESCRIPTION:Super Hero Costume Pawty\n!!THIS IS A FAKE AND TEST EVENT!!\nCome decked out in your best Super dog costume! \nTerrapin Tap takeover featuring $5 drafts and $3.50 cans. \nDonations to enter the contest with 100% of proceeds given to Catering to Cats and Dogs. \n 
URL:https://build.c2cnd.org/event/costume-pawty-2025-10-09/
LOCATION:Lucky Dog Bark & Brew\, 2220 Thrift Rd\, Charlotte\, NC\, 28208\, United States
CATEGORIES:Adoption
ATTACH;FMTTYPE=image/png:https://build.c2cnd.org/wp-content/uploads/2017/09/LuckyDog-Logo1.png
ORGANIZER;CN="Catering to Cats and Dogs":MAILTO:webmaster@c2cnd.org
END:VEVENT
BEGIN:VEVENT
DTSTART;TZID=America/New_York:20251004T100000
DTEND;TZID=America/New_York:20251004T140000
DTSTAMP:20260423T073646
CREATED:20170927T214114Z
LAST-MODIFIED:20170927T214114Z
UID:1976-1759572000-1759586400@build.c2cnd.org
SUMMARY:PetSmart Concord
DESCRIPTION:Come on out to PetSmart Concord and meet your next best friend. Please feel free to bring your family and your pet and be sure to talk with our volunteer staff. We are here to answer your questions and let you get acquainted with the pets. \nWe look forward to seeing you there!
URL:https://build.c2cnd.org/event/petsmart-concord-2025-10-04/
LOCATION:PetSmart – Concord\, 6070 Bayfield Pkwy\, Concord\, NC\, 28027\, United States
CATEGORIES:Adoption
ATTACH;FMTTYPE=image/jpeg:https://build.c2cnd.org/wp-content/uploads/2017/09/Afton-Ridge_Petsmart.jpg
ORGANIZER;CN="Catering to Cats and Dogs":MAILTO:webmaster@c2cnd.org
END:VEVENT
BEGIN:VEVENT
DTSTART;TZID=America/New_York:20251002T100000
DTEND;TZID=America/New_York:20251002T150000
DTSTAMP:20260423T073646
CREATED:20171004T203220Z
LAST-MODIFIED:20171004T203220Z
UID:1975-1759399200-1759417200@build.c2cnd.org
SUMMARY:Costume Pawty
DESCRIPTION:Super Hero Costume Pawty\n!!THIS IS A FAKE AND TEST EVENT!!\nCome decked out in your best Super dog costume! \nTerrapin Tap takeover featuring $5 drafts and $3.50 cans. \nDonations to enter the contest with 100% of proceeds given to Catering to Cats and Dogs. \n 
URL:https://build.c2cnd.org/event/costume-pawty-2025-10-02/
LOCATION:Lucky Dog Bark & Brew\, 2220 Thrift Rd\, Charlotte\, NC\, 28208\, United States
CATEGORIES:Adoption
ATTACH;FMTTYPE=image/png:https://build.c2cnd.org/wp-content/uploads/2017/09/LuckyDog-Logo1.png
ORGANIZER;CN="Catering to Cats and Dogs":MAILTO:webmaster@c2cnd.org
END:VEVENT
BEGIN:VEVENT
DTSTART;TZID=America/New_York:20250927T100000
DTEND;TZID=America/New_York:20250927T140000
DTSTAMP:20260423T073646
CREATED:20170927T214114Z
LAST-MODIFIED:20170927T214114Z
UID:1974-1758967200-1758981600@build.c2cnd.org
SUMMARY:PetSmart Concord
DESCRIPTION:Come on out to PetSmart Concord and meet your next best friend. Please feel free to bring your family and your pet and be sure to talk with our volunteer staff. We are here to answer your questions and let you get acquainted with the pets. \nWe look forward to seeing you there!
URL:https://build.c2cnd.org/event/petsmart-concord-2025-09-27/
LOCATION:PetSmart – Concord\, 6070 Bayfield Pkwy\, Concord\, NC\, 28027\, United States
CATEGORIES:Adoption
ATTACH;FMTTYPE=image/jpeg:https://build.c2cnd.org/wp-content/uploads/2017/09/Afton-Ridge_Petsmart.jpg
ORGANIZER;CN="Catering to Cats and Dogs":MAILTO:webmaster@c2cnd.org
END:VEVENT
BEGIN:VEVENT
DTSTART;TZID=America/New_York:20250925T100000
DTEND;TZID=America/New_York:20250925T150000
DTSTAMP:20260423T073646
CREATED:20171004T203220Z
LAST-MODIFIED:20171004T203220Z
UID:1973-1758794400-1758812400@build.c2cnd.org
SUMMARY:Costume Pawty
DESCRIPTION:Super Hero Costume Pawty\n!!THIS IS A FAKE AND TEST EVENT!!\nCome decked out in your best Super dog costume! \nTerrapin Tap takeover featuring $5 drafts and $3.50 cans. \nDonations to enter the contest with 100% of proceeds given to Catering to Cats and Dogs. \n 
URL:https://build.c2cnd.org/event/costume-pawty-2025-09-25/
LOCATION:Lucky Dog Bark & Brew\, 2220 Thrift Rd\, Charlotte\, NC\, 28208\, United States
CATEGORIES:Adoption
ATTACH;FMTTYPE=image/png:https://build.c2cnd.org/wp-content/uploads/2017/09/LuckyDog-Logo1.png
ORGANIZER;CN="Catering to Cats and Dogs":MAILTO:webmaster@c2cnd.org
END:VEVENT
BEGIN:VEVENT
DTSTART;TZID=America/New_York:20250920T100000
DTEND;TZID=America/New_York:20250920T140000
DTSTAMP:20260423T073646
CREATED:20170930T211508Z
LAST-MODIFIED:20170930T211508Z
UID:1971-1758362400-1758376800@build.c2cnd.org
SUMMARY:PetSmart - Steel Creek
DESCRIPTION:Come on out to PetSmart Steel Creek and meet your next best friend. Please feel free to bring your family and your pet and be sure to talk with our volunteer staff. We are here to answer your questions and let you get acquainted with the pets. \nWe look forward to seeing you there!
URL:https://build.c2cnd.org/event/petsmart-steel-creek-2025-09-20/
LOCATION:PetSmart – Steel Creek\, 14137 Rivergate Pkwy\, Charlotte\, NC\, 28273\, United States
CATEGORIES:Adoption
ATTACH;FMTTYPE=image/jpeg:https://build.c2cnd.org/wp-content/uploads/2017/09/steelcreek.jpg
ORGANIZER;CN="Catering to Cats and Dogs":MAILTO:webmaster@c2cnd.org
END:VEVENT
BEGIN:VEVENT
DTSTART;TZID=America/New_York:20250920T100000
DTEND;TZID=America/New_York:20250920T140000
DTSTAMP:20260423T073646
CREATED:20170927T214114Z
LAST-MODIFIED:20170927T214114Z
UID:1972-1758362400-1758376800@build.c2cnd.org
SUMMARY:PetSmart Concord
DESCRIPTION:Come on out to PetSmart Concord and meet your next best friend. Please feel free to bring your family and your pet and be sure to talk with our volunteer staff. We are here to answer your questions and let you get acquainted with the pets. \nWe look forward to seeing you there!
URL:https://build.c2cnd.org/event/petsmart-concord-2025-09-20/
LOCATION:PetSmart – Concord\, 6070 Bayfield Pkwy\, Concord\, NC\, 28027\, United States
CATEGORIES:Adoption
ATTACH;FMTTYPE=image/jpeg:https://build.c2cnd.org/wp-content/uploads/2017/09/Afton-Ridge_Petsmart.jpg
ORGANIZER;CN="Catering to Cats and Dogs":MAILTO:webmaster@c2cnd.org
END:VEVENT
BEGIN:VEVENT
DTSTART;TZID=America/New_York:20250918T100000
DTEND;TZID=America/New_York:20250918T150000
DTSTAMP:20260423T073646
CREATED:20171004T203220Z
LAST-MODIFIED:20171004T203220Z
UID:1970-1758189600-1758207600@build.c2cnd.org
SUMMARY:Costume Pawty
DESCRIPTION:Super Hero Costume Pawty\n!!THIS IS A FAKE AND TEST EVENT!!\nCome decked out in your best Super dog costume! \nTerrapin Tap takeover featuring $5 drafts and $3.50 cans. \nDonations to enter the contest with 100% of proceeds given to Catering to Cats and Dogs. \n 
URL:https://build.c2cnd.org/event/costume-pawty-2025-09-18/
LOCATION:Lucky Dog Bark & Brew\, 2220 Thrift Rd\, Charlotte\, NC\, 28208\, United States
CATEGORIES:Adoption
ATTACH;FMTTYPE=image/png:https://build.c2cnd.org/wp-content/uploads/2017/09/LuckyDog-Logo1.png
ORGANIZER;CN="Catering to Cats and Dogs":MAILTO:webmaster@c2cnd.org
END:VEVENT
BEGIN:VEVENT
DTSTART;TZID=America/New_York:20250913T100000
DTEND;TZID=America/New_York:20250913T140000
DTSTAMP:20260423T073646
CREATED:20170927T214114Z
LAST-MODIFIED:20170927T214114Z
UID:1969-1757757600-1757772000@build.c2cnd.org
SUMMARY:PetSmart Concord
DESCRIPTION:Come on out to PetSmart Concord and meet your next best friend. Please feel free to bring your family and your pet and be sure to talk with our volunteer staff. We are here to answer your questions and let you get acquainted with the pets. \nWe look forward to seeing you there!
URL:https://build.c2cnd.org/event/petsmart-concord-2025-09-13/
LOCATION:PetSmart – Concord\, 6070 Bayfield Pkwy\, Concord\, NC\, 28027\, United States
CATEGORIES:Adoption
ATTACH;FMTTYPE=image/jpeg:https://build.c2cnd.org/wp-content/uploads/2017/09/Afton-Ridge_Petsmart.jpg
ORGANIZER;CN="Catering to Cats and Dogs":MAILTO:webmaster@c2cnd.org
END:VEVENT
BEGIN:VEVENT
DTSTART;TZID=America/New_York:20250911T100000
DTEND;TZID=America/New_York:20250911T150000
DTSTAMP:20260423T073646
CREATED:20171004T203220Z
LAST-MODIFIED:20171004T203220Z
UID:1968-1757584800-1757602800@build.c2cnd.org
SUMMARY:Costume Pawty
DESCRIPTION:Super Hero Costume Pawty\n!!THIS IS A FAKE AND TEST EVENT!!\nCome decked out in your best Super dog costume! \nTerrapin Tap takeover featuring $5 drafts and $3.50 cans. \nDonations to enter the contest with 100% of proceeds given to Catering to Cats and Dogs. \n 
URL:https://build.c2cnd.org/event/costume-pawty-2025-09-11/
LOCATION:Lucky Dog Bark & Brew\, 2220 Thrift Rd\, Charlotte\, NC\, 28208\, United States
CATEGORIES:Adoption
ATTACH;FMTTYPE=image/png:https://build.c2cnd.org/wp-content/uploads/2017/09/LuckyDog-Logo1.png
ORGANIZER;CN="Catering to Cats and Dogs":MAILTO:webmaster@c2cnd.org
END:VEVENT
BEGIN:VEVENT
DTSTART;TZID=America/New_York:20250906T100000
DTEND;TZID=America/New_York:20250906T140000
DTSTAMP:20260423T073646
CREATED:20170927T214114Z
LAST-MODIFIED:20170927T214114Z
UID:1967-1757152800-1757167200@build.c2cnd.org
SUMMARY:PetSmart Concord
DESCRIPTION:Come on out to PetSmart Concord and meet your next best friend. Please feel free to bring your family and your pet and be sure to talk with our volunteer staff. We are here to answer your questions and let you get acquainted with the pets. \nWe look forward to seeing you there!
URL:https://build.c2cnd.org/event/petsmart-concord-2025-09-06/
LOCATION:PetSmart – Concord\, 6070 Bayfield Pkwy\, Concord\, NC\, 28027\, United States
CATEGORIES:Adoption
ATTACH;FMTTYPE=image/jpeg:https://build.c2cnd.org/wp-content/uploads/2017/09/Afton-Ridge_Petsmart.jpg
ORGANIZER;CN="Catering to Cats and Dogs":MAILTO:webmaster@c2cnd.org
END:VEVENT
BEGIN:VEVENT
DTSTART;TZID=America/New_York:20250904T100000
DTEND;TZID=America/New_York:20250904T150000
DTSTAMP:20260423T073646
CREATED:20171004T203220Z
LAST-MODIFIED:20171004T203220Z
UID:1966-1756980000-1756998000@build.c2cnd.org
SUMMARY:Costume Pawty
DESCRIPTION:Super Hero Costume Pawty\n!!THIS IS A FAKE AND TEST EVENT!!\nCome decked out in your best Super dog costume! \nTerrapin Tap takeover featuring $5 drafts and $3.50 cans. \nDonations to enter the contest with 100% of proceeds given to Catering to Cats and Dogs. \n 
URL:https://build.c2cnd.org/event/costume-pawty-2025-09-04/
LOCATION:Lucky Dog Bark & Brew\, 2220 Thrift Rd\, Charlotte\, NC\, 28208\, United States
CATEGORIES:Adoption
ATTACH;FMTTYPE=image/png:https://build.c2cnd.org/wp-content/uploads/2017/09/LuckyDog-Logo1.png
ORGANIZER;CN="Catering to Cats and Dogs":MAILTO:webmaster@c2cnd.org
END:VEVENT
BEGIN:VEVENT
DTSTART;TZID=America/New_York:20250830T100000
DTEND;TZID=America/New_York:20250830T140000
DTSTAMP:20260423T073646
CREATED:20170927T214114Z
LAST-MODIFIED:20170927T214114Z
UID:1965-1756548000-1756562400@build.c2cnd.org
SUMMARY:PetSmart Concord
DESCRIPTION:Come on out to PetSmart Concord and meet your next best friend. Please feel free to bring your family and your pet and be sure to talk with our volunteer staff. We are here to answer your questions and let you get acquainted with the pets. \nWe look forward to seeing you there!
URL:https://build.c2cnd.org/event/petsmart-concord-2025-08-30/
LOCATION:PetSmart – Concord\, 6070 Bayfield Pkwy\, Concord\, NC\, 28027\, United States
CATEGORIES:Adoption
ATTACH;FMTTYPE=image/jpeg:https://build.c2cnd.org/wp-content/uploads/2017/09/Afton-Ridge_Petsmart.jpg
ORGANIZER;CN="Catering to Cats and Dogs":MAILTO:webmaster@c2cnd.org
END:VEVENT
BEGIN:VEVENT
DTSTART;TZID=America/New_York:20250828T100000
DTEND;TZID=America/New_York:20250828T150000
DTSTAMP:20260423T073646
CREATED:20171004T203220Z
LAST-MODIFIED:20171004T203220Z
UID:1964-1756375200-1756393200@build.c2cnd.org
SUMMARY:Costume Pawty
DESCRIPTION:Super Hero Costume Pawty\n!!THIS IS A FAKE AND TEST EVENT!!\nCome decked out in your best Super dog costume! \nTerrapin Tap takeover featuring $5 drafts and $3.50 cans. \nDonations to enter the contest with 100% of proceeds given to Catering to Cats and Dogs. \n 
URL:https://build.c2cnd.org/event/costume-pawty-2025-08-28/
LOCATION:Lucky Dog Bark & Brew\, 2220 Thrift Rd\, Charlotte\, NC\, 28208\, United States
CATEGORIES:Adoption
ATTACH;FMTTYPE=image/png:https://build.c2cnd.org/wp-content/uploads/2017/09/LuckyDog-Logo1.png
ORGANIZER;CN="Catering to Cats and Dogs":MAILTO:webmaster@c2cnd.org
END:VEVENT
BEGIN:VEVENT
DTSTART;TZID=America/New_York:20250823T100000
DTEND;TZID=America/New_York:20250823T140000
DTSTAMP:20260423T073646
CREATED:20170930T211508Z
LAST-MODIFIED:20170930T211508Z
UID:1962-1755943200-1755957600@build.c2cnd.org
SUMMARY:PetSmart - Steel Creek
DESCRIPTION:Come on out to PetSmart Steel Creek and meet your next best friend. Please feel free to bring your family and your pet and be sure to talk with our volunteer staff. We are here to answer your questions and let you get acquainted with the pets. \nWe look forward to seeing you there!
URL:https://build.c2cnd.org/event/petsmart-steel-creek-2025-08-23/
LOCATION:PetSmart – Steel Creek\, 14137 Rivergate Pkwy\, Charlotte\, NC\, 28273\, United States
CATEGORIES:Adoption
ATTACH;FMTTYPE=image/jpeg:https://build.c2cnd.org/wp-content/uploads/2017/09/steelcreek.jpg
ORGANIZER;CN="Catering to Cats and Dogs":MAILTO:webmaster@c2cnd.org
END:VEVENT
BEGIN:VEVENT
DTSTART;TZID=America/New_York:20250823T100000
DTEND;TZID=America/New_York:20250823T140000
DTSTAMP:20260423T073646
CREATED:20170927T214114Z
LAST-MODIFIED:20170927T214114Z
UID:1963-1755943200-1755957600@build.c2cnd.org
SUMMARY:PetSmart Concord
DESCRIPTION:Come on out to PetSmart Concord and meet your next best friend. Please feel free to bring your family and your pet and be sure to talk with our volunteer staff. We are here to answer your questions and let you get acquainted with the pets. \nWe look forward to seeing you there!
URL:https://build.c2cnd.org/event/petsmart-concord-2025-08-23/
LOCATION:PetSmart – Concord\, 6070 Bayfield Pkwy\, Concord\, NC\, 28027\, United States
CATEGORIES:Adoption
ATTACH;FMTTYPE=image/jpeg:https://build.c2cnd.org/wp-content/uploads/2017/09/Afton-Ridge_Petsmart.jpg
ORGANIZER;CN="Catering to Cats and Dogs":MAILTO:webmaster@c2cnd.org
END:VEVENT
BEGIN:VEVENT
DTSTART;TZID=America/New_York:20250821T100000
DTEND;TZID=America/New_York:20250821T150000
DTSTAMP:20260423T073646
CREATED:20171004T203220Z
LAST-MODIFIED:20171004T203220Z
UID:1961-1755770400-1755788400@build.c2cnd.org
SUMMARY:Costume Pawty
DESCRIPTION:Super Hero Costume Pawty\n!!THIS IS A FAKE AND TEST EVENT!!\nCome decked out in your best Super dog costume! \nTerrapin Tap takeover featuring $5 drafts and $3.50 cans. \nDonations to enter the contest with 100% of proceeds given to Catering to Cats and Dogs. \n 
URL:https://build.c2cnd.org/event/costume-pawty-2025-08-21/
LOCATION:Lucky Dog Bark & Brew\, 2220 Thrift Rd\, Charlotte\, NC\, 28208\, United States
CATEGORIES:Adoption
ATTACH;FMTTYPE=image/png:https://build.c2cnd.org/wp-content/uploads/2017/09/LuckyDog-Logo1.png
ORGANIZER;CN="Catering to Cats and Dogs":MAILTO:webmaster@c2cnd.org
END:VEVENT
BEGIN:VEVENT
DTSTART;TZID=America/New_York:20171004T100000
DTEND;TZID=America/New_York:20171004T150000
DTSTAMP:20260423T073646
CREATED:20171004T203220Z
LAST-MODIFIED:20171004T203220Z
UID:237-1507111200-1507129200@build.c2cnd.org
SUMMARY:Costume Pawty
DESCRIPTION:Super Hero Costume Pawty\n!!THIS IS A FAKE AND TEST EVENT!!\nCome decked out in your best Super dog costume! \nTerrapin Tap takeover featuring $5 drafts and $3.50 cans. \nDonations to enter the contest with 100% of proceeds given to Catering to Cats and Dogs. \n 
URL:https://build.c2cnd.org/event/costume-pawty/
LOCATION:Lucky Dog Bark & Brew\, 2220 Thrift Rd\, Charlotte\, NC\, 28208\, United States
CATEGORIES:Adoption
ATTACH;FMTTYPE=image/png:https://build.c2cnd.org/wp-content/uploads/2017/09/LuckyDog-Logo1.png
ORGANIZER;CN="Catering to Cats and Dogs":MAILTO:webmaster@c2cnd.org
END:VEVENT
BEGIN:VEVENT
DTSTART;TZID=America/New_York:20171004T100000
DTEND;TZID=America/New_York:20171004T140000
DTSTAMP:20260423T073646
CREATED:20170929T035446Z
LAST-MODIFIED:20170929T035446Z
UID:99-1507111200-1507125600@build.c2cnd.org
SUMMARY:PetPeople Cornelius
DESCRIPTION:Please join us for an adoption event at PetPeople in Cornelius. We will be hosting an adoption event every 2nd\, 4th and fifth Saturday of every month. \nIf you would like to help and volunteer at the events please feel free to contact us at: \nCats@c2cnd.org \nor \nDogs@c2cnd.org
URL:https://build.c2cnd.org/event/petpeople-cornelius/
LOCATION:PetPeople Cornelius\, 20623 Torrence Chapel Rd\, Cornelius\, NC\, 28031\, United States
CATEGORIES:Adoption
ATTACH;FMTTYPE=image/jpeg:https://build.c2cnd.org/wp-content/uploads/2017/09/PetPeopleStore.jpg
ORGANIZER;CN="Catering to Cats and Dogs":MAILTO:webmaster@c2cnd.org
END:VEVENT
BEGIN:VEVENT
DTSTART;TZID=America/New_York:20170930T100000
DTEND;TZID=America/New_York:20170930T140000
DTSTAMP:20260423T073646
CREATED:20170930T211508Z
LAST-MODIFIED:20170930T211814Z
UID:135-1506765600-1506780000@build.c2cnd.org
SUMMARY:PetSmart - Steel Creek
DESCRIPTION:Come on out to PetSmart Steel Creek and meet your next best friend. Please feel free to bring your family and your pet and be sure to talk with our volunteer staff. We are here to answer your questions and let you get acquainted with the pets. \nWe look forward to seeing you there!
URL:https://build.c2cnd.org/event/petsmart-steel-creek/
LOCATION:PetSmart – Steel Creek\, 14137 Rivergate Pkwy\, Charlotte\, NC\, 28273\, United States
CATEGORIES:Adoption
ATTACH;FMTTYPE=image/jpeg:https://build.c2cnd.org/wp-content/uploads/2017/09/steelcreek.jpg
ORGANIZER;CN="Catering to Cats and Dogs":MAILTO:webmaster@c2cnd.org
END:VEVENT
BEGIN:VEVENT
DTSTART;TZID=America/New_York:20170930T100000
DTEND;TZID=America/New_York:20170930T140000
DTSTAMP:20260423T073646
CREATED:20170927T214114Z
LAST-MODIFIED:20170930T211636Z
UID:79-1506765600-1506780000@build.c2cnd.org
SUMMARY:PetSmart Concord
DESCRIPTION:Come on out to PetSmart Concord and meet your next best friend. Please feel free to bring your family and your pet and be sure to talk with our volunteer staff. We are here to answer your questions and let you get acquainted with the pets. \nWe look forward to seeing you there!
URL:https://build.c2cnd.org/event/petsmart-concord/
LOCATION:PetSmart – Concord\, 6070 Bayfield Pkwy\, Concord\, NC\, 28027\, United States
CATEGORIES:Adoption
ATTACH;FMTTYPE=image/jpeg:https://build.c2cnd.org/wp-content/uploads/2017/09/Afton-Ridge_Petsmart.jpg
ORGANIZER;CN="Catering to Cats and Dogs":MAILTO:webmaster@c2cnd.org
END:VEVENT
END:VCALENDAR