BEGIN:VCALENDAR
VERSION:2.0
PRODID:-//C2CND - ECPv6.9.0//NONSGML v1.0//EN
CALSCALE:GREGORIAN
METHOD:PUBLISH
X-WR-CALNAME:C2CND
X-ORIGINAL-URL:https://build.c2cnd.org
X-WR-CALDESC:Events for C2CND
REFRESH-INTERVAL;VALUE=DURATION:PT1H
X-Robots-Tag:noindex
X-PUBLISHED-TTL:PT1H
BEGIN:VTIMEZONE
TZID:America/New_York
BEGIN:DAYLIGHT
TZOFFSETFROM:-0500
TZOFFSETTO:-0400
TZNAME:EDT
DTSTART:20250309T070000
END:DAYLIGHT
BEGIN:STANDARD
TZOFFSETFROM:-0400
TZOFFSETTO:-0500
TZNAME:EST
DTSTART:20251102T060000
END:STANDARD
END:VTIMEZONE
BEGIN:VEVENT
DTSTART;TZID=America/New_York:20251218T100000
DTEND;TZID=America/New_York:20251218T150000
DTSTAMP:20260423T073919
CREATED:20171004T203220Z
LAST-MODIFIED:20171004T203220Z
UID:2000-1766052000-1766070000@build.c2cnd.org
SUMMARY:Costume Pawty
DESCRIPTION:Super Hero Costume Pawty\n!!THIS IS A FAKE AND TEST EVENT!!\nCome decked out in your best Super dog costume! \nTerrapin Tap takeover featuring $5 drafts and $3.50 cans. \nDonations to enter the contest with 100% of proceeds given to Catering to Cats and Dogs. \n 
URL:https://build.c2cnd.org/event/costume-pawty-2025-12-18/
LOCATION:Lucky Dog Bark & Brew\, 2220 Thrift Rd\, Charlotte\, NC\, 28208\, United States
CATEGORIES:Adoption
ATTACH;FMTTYPE=image/png:https://build.c2cnd.org/wp-content/uploads/2017/09/LuckyDog-Logo1.png
ORGANIZER;CN="Catering to Cats and Dogs":MAILTO:webmaster@c2cnd.org
END:VEVENT
BEGIN:VEVENT
DTSTART;TZID=America/New_York:20251213T100000
DTEND;TZID=America/New_York:20251213T140000
DTSTAMP:20260423T073919
CREATED:20170930T211508Z
LAST-MODIFIED:20170930T211508Z
UID:1998-1765620000-1765634400@build.c2cnd.org
SUMMARY:PetSmart - Steel Creek
DESCRIPTION:Come on out to PetSmart Steel Creek and meet your next best friend. Please feel free to bring your family and your pet and be sure to talk with our volunteer staff. We are here to answer your questions and let you get acquainted with the pets. \nWe look forward to seeing you there!
URL:https://build.c2cnd.org/event/petsmart-steel-creek-2025-12-13/
LOCATION:PetSmart – Steel Creek\, 14137 Rivergate Pkwy\, Charlotte\, NC\, 28273\, United States
CATEGORIES:Adoption
ATTACH;FMTTYPE=image/jpeg:https://build.c2cnd.org/wp-content/uploads/2017/09/steelcreek.jpg
ORGANIZER;CN="Catering to Cats and Dogs":MAILTO:webmaster@c2cnd.org
END:VEVENT
BEGIN:VEVENT
DTSTART;TZID=America/New_York:20251213T100000
DTEND;TZID=America/New_York:20251213T140000
DTSTAMP:20260423T073919
CREATED:20170927T214114Z
LAST-MODIFIED:20170927T214114Z
UID:1999-1765620000-1765634400@build.c2cnd.org
SUMMARY:PetSmart Concord
DESCRIPTION:Come on out to PetSmart Concord and meet your next best friend. Please feel free to bring your family and your pet and be sure to talk with our volunteer staff. We are here to answer your questions and let you get acquainted with the pets. \nWe look forward to seeing you there!
URL:https://build.c2cnd.org/event/petsmart-concord-2025-12-13/
LOCATION:PetSmart – Concord\, 6070 Bayfield Pkwy\, Concord\, NC\, 28027\, United States
CATEGORIES:Adoption
ATTACH;FMTTYPE=image/jpeg:https://build.c2cnd.org/wp-content/uploads/2017/09/Afton-Ridge_Petsmart.jpg
ORGANIZER;CN="Catering to Cats and Dogs":MAILTO:webmaster@c2cnd.org
END:VEVENT
BEGIN:VEVENT
DTSTART;TZID=America/New_York:20251211T100000
DTEND;TZID=America/New_York:20251211T150000
DTSTAMP:20260423T073919
CREATED:20171004T203220Z
LAST-MODIFIED:20171004T203220Z
UID:1997-1765447200-1765465200@build.c2cnd.org
SUMMARY:Costume Pawty
DESCRIPTION:Super Hero Costume Pawty\n!!THIS IS A FAKE AND TEST EVENT!!\nCome decked out in your best Super dog costume! \nTerrapin Tap takeover featuring $5 drafts and $3.50 cans. \nDonations to enter the contest with 100% of proceeds given to Catering to Cats and Dogs. \n 
URL:https://build.c2cnd.org/event/costume-pawty-2025-12-11/
LOCATION:Lucky Dog Bark & Brew\, 2220 Thrift Rd\, Charlotte\, NC\, 28208\, United States
CATEGORIES:Adoption
ATTACH;FMTTYPE=image/png:https://build.c2cnd.org/wp-content/uploads/2017/09/LuckyDog-Logo1.png
ORGANIZER;CN="Catering to Cats and Dogs":MAILTO:webmaster@c2cnd.org
END:VEVENT
BEGIN:VEVENT
DTSTART;TZID=America/New_York:20251206T100000
DTEND;TZID=America/New_York:20251206T140000
DTSTAMP:20260423T073919
CREATED:20170927T214114Z
LAST-MODIFIED:20170927T214114Z
UID:1996-1765015200-1765029600@build.c2cnd.org
SUMMARY:PetSmart Concord
DESCRIPTION:Come on out to PetSmart Concord and meet your next best friend. Please feel free to bring your family and your pet and be sure to talk with our volunteer staff. We are here to answer your questions and let you get acquainted with the pets. \nWe look forward to seeing you there!
URL:https://build.c2cnd.org/event/petsmart-concord-2025-12-06/
LOCATION:PetSmart – Concord\, 6070 Bayfield Pkwy\, Concord\, NC\, 28027\, United States
CATEGORIES:Adoption
ATTACH;FMTTYPE=image/jpeg:https://build.c2cnd.org/wp-content/uploads/2017/09/Afton-Ridge_Petsmart.jpg
ORGANIZER;CN="Catering to Cats and Dogs":MAILTO:webmaster@c2cnd.org
END:VEVENT
BEGIN:VEVENT
DTSTART;TZID=America/New_York:20251204T100000
DTEND;TZID=America/New_York:20251204T150000
DTSTAMP:20260423T073919
CREATED:20171004T203220Z
LAST-MODIFIED:20171004T203220Z
UID:1995-1764842400-1764860400@build.c2cnd.org
SUMMARY:Costume Pawty
DESCRIPTION:Super Hero Costume Pawty\n!!THIS IS A FAKE AND TEST EVENT!!\nCome decked out in your best Super dog costume! \nTerrapin Tap takeover featuring $5 drafts and $3.50 cans. \nDonations to enter the contest with 100% of proceeds given to Catering to Cats and Dogs. \n 
URL:https://build.c2cnd.org/event/costume-pawty-2025-12-04/
LOCATION:Lucky Dog Bark & Brew\, 2220 Thrift Rd\, Charlotte\, NC\, 28208\, United States
CATEGORIES:Adoption
ATTACH;FMTTYPE=image/png:https://build.c2cnd.org/wp-content/uploads/2017/09/LuckyDog-Logo1.png
ORGANIZER;CN="Catering to Cats and Dogs":MAILTO:webmaster@c2cnd.org
END:VEVENT
BEGIN:VEVENT
DTSTART;TZID=America/New_York:20251129T100000
DTEND;TZID=America/New_York:20251129T140000
DTSTAMP:20260423T073919
CREATED:20170927T214114Z
LAST-MODIFIED:20170927T214114Z
UID:1994-1764410400-1764424800@build.c2cnd.org
SUMMARY:PetSmart Concord
DESCRIPTION:Come on out to PetSmart Concord and meet your next best friend. Please feel free to bring your family and your pet and be sure to talk with our volunteer staff. We are here to answer your questions and let you get acquainted with the pets. \nWe look forward to seeing you there!
URL:https://build.c2cnd.org/event/petsmart-concord-2025-11-29/
LOCATION:PetSmart – Concord\, 6070 Bayfield Pkwy\, Concord\, NC\, 28027\, United States
CATEGORIES:Adoption
ATTACH;FMTTYPE=image/jpeg:https://build.c2cnd.org/wp-content/uploads/2017/09/Afton-Ridge_Petsmart.jpg
ORGANIZER;CN="Catering to Cats and Dogs":MAILTO:webmaster@c2cnd.org
END:VEVENT
BEGIN:VEVENT
DTSTART;TZID=America/New_York:20251127T100000
DTEND;TZID=America/New_York:20251127T150000
DTSTAMP:20260423T073919
CREATED:20171004T203220Z
LAST-MODIFIED:20171004T203220Z
UID:1993-1764237600-1764255600@build.c2cnd.org
SUMMARY:Costume Pawty
DESCRIPTION:Super Hero Costume Pawty\n!!THIS IS A FAKE AND TEST EVENT!!\nCome decked out in your best Super dog costume! \nTerrapin Tap takeover featuring $5 drafts and $3.50 cans. \nDonations to enter the contest with 100% of proceeds given to Catering to Cats and Dogs. \n 
URL:https://build.c2cnd.org/event/costume-pawty-2025-11-27/
LOCATION:Lucky Dog Bark & Brew\, 2220 Thrift Rd\, Charlotte\, NC\, 28208\, United States
CATEGORIES:Adoption
ATTACH;FMTTYPE=image/png:https://build.c2cnd.org/wp-content/uploads/2017/09/LuckyDog-Logo1.png
ORGANIZER;CN="Catering to Cats and Dogs":MAILTO:webmaster@c2cnd.org
END:VEVENT
BEGIN:VEVENT
DTSTART;TZID=America/New_York:20251122T100000
DTEND;TZID=America/New_York:20251122T140000
DTSTAMP:20260423T073919
CREATED:20170927T214114Z
LAST-MODIFIED:20170927T214114Z
UID:1992-1763805600-1763820000@build.c2cnd.org
SUMMARY:PetSmart Concord
DESCRIPTION:Come on out to PetSmart Concord and meet your next best friend. Please feel free to bring your family and your pet and be sure to talk with our volunteer staff. We are here to answer your questions and let you get acquainted with the pets. \nWe look forward to seeing you there!
URL:https://build.c2cnd.org/event/petsmart-concord-2025-11-22/
LOCATION:PetSmart – Concord\, 6070 Bayfield Pkwy\, Concord\, NC\, 28027\, United States
CATEGORIES:Adoption
ATTACH;FMTTYPE=image/jpeg:https://build.c2cnd.org/wp-content/uploads/2017/09/Afton-Ridge_Petsmart.jpg
ORGANIZER;CN="Catering to Cats and Dogs":MAILTO:webmaster@c2cnd.org
END:VEVENT
BEGIN:VEVENT
DTSTART;TZID=America/New_York:20251120T100000
DTEND;TZID=America/New_York:20251120T150000
DTSTAMP:20260423T073919
CREATED:20171004T203220Z
LAST-MODIFIED:20171004T203220Z
UID:1991-1763632800-1763650800@build.c2cnd.org
SUMMARY:Costume Pawty
DESCRIPTION:Super Hero Costume Pawty\n!!THIS IS A FAKE AND TEST EVENT!!\nCome decked out in your best Super dog costume! \nTerrapin Tap takeover featuring $5 drafts and $3.50 cans. \nDonations to enter the contest with 100% of proceeds given to Catering to Cats and Dogs. \n 
URL:https://build.c2cnd.org/event/costume-pawty-2025-11-20/
LOCATION:Lucky Dog Bark & Brew\, 2220 Thrift Rd\, Charlotte\, NC\, 28208\, United States
CATEGORIES:Adoption
ATTACH;FMTTYPE=image/png:https://build.c2cnd.org/wp-content/uploads/2017/09/LuckyDog-Logo1.png
ORGANIZER;CN="Catering to Cats and Dogs":MAILTO:webmaster@c2cnd.org
END:VEVENT
BEGIN:VEVENT
DTSTART;TZID=America/New_York:20251115T100000
DTEND;TZID=America/New_York:20251115T140000
DTSTAMP:20260423T073919
CREATED:20170930T211508Z
LAST-MODIFIED:20170930T211508Z
UID:1989-1763200800-1763215200@build.c2cnd.org
SUMMARY:PetSmart - Steel Creek
DESCRIPTION:Come on out to PetSmart Steel Creek and meet your next best friend. Please feel free to bring your family and your pet and be sure to talk with our volunteer staff. We are here to answer your questions and let you get acquainted with the pets. \nWe look forward to seeing you there!
URL:https://build.c2cnd.org/event/petsmart-steel-creek-2025-11-15/
LOCATION:PetSmart – Steel Creek\, 14137 Rivergate Pkwy\, Charlotte\, NC\, 28273\, United States
CATEGORIES:Adoption
ATTACH;FMTTYPE=image/jpeg:https://build.c2cnd.org/wp-content/uploads/2017/09/steelcreek.jpg
ORGANIZER;CN="Catering to Cats and Dogs":MAILTO:webmaster@c2cnd.org
END:VEVENT
BEGIN:VEVENT
DTSTART;TZID=America/New_York:20251115T100000
DTEND;TZID=America/New_York:20251115T140000
DTSTAMP:20260423T073919
CREATED:20170927T214114Z
LAST-MODIFIED:20170927T214114Z
UID:1990-1763200800-1763215200@build.c2cnd.org
SUMMARY:PetSmart Concord
DESCRIPTION:Come on out to PetSmart Concord and meet your next best friend. Please feel free to bring your family and your pet and be sure to talk with our volunteer staff. We are here to answer your questions and let you get acquainted with the pets. \nWe look forward to seeing you there!
URL:https://build.c2cnd.org/event/petsmart-concord-2025-11-15/
LOCATION:PetSmart – Concord\, 6070 Bayfield Pkwy\, Concord\, NC\, 28027\, United States
CATEGORIES:Adoption
ATTACH;FMTTYPE=image/jpeg:https://build.c2cnd.org/wp-content/uploads/2017/09/Afton-Ridge_Petsmart.jpg
ORGANIZER;CN="Catering to Cats and Dogs":MAILTO:webmaster@c2cnd.org
END:VEVENT
BEGIN:VEVENT
DTSTART;TZID=America/New_York:20251113T100000
DTEND;TZID=America/New_York:20251113T150000
DTSTAMP:20260423T073919
CREATED:20171004T203220Z
LAST-MODIFIED:20171004T203220Z
UID:1988-1763028000-1763046000@build.c2cnd.org
SUMMARY:Costume Pawty
DESCRIPTION:Super Hero Costume Pawty\n!!THIS IS A FAKE AND TEST EVENT!!\nCome decked out in your best Super dog costume! \nTerrapin Tap takeover featuring $5 drafts and $3.50 cans. \nDonations to enter the contest with 100% of proceeds given to Catering to Cats and Dogs. \n 
URL:https://build.c2cnd.org/event/costume-pawty-2025-11-13/
LOCATION:Lucky Dog Bark & Brew\, 2220 Thrift Rd\, Charlotte\, NC\, 28208\, United States
CATEGORIES:Adoption
ATTACH;FMTTYPE=image/png:https://build.c2cnd.org/wp-content/uploads/2017/09/LuckyDog-Logo1.png
ORGANIZER;CN="Catering to Cats and Dogs":MAILTO:webmaster@c2cnd.org
END:VEVENT
BEGIN:VEVENT
DTSTART;TZID=America/New_York:20251108T100000
DTEND;TZID=America/New_York:20251108T140000
DTSTAMP:20260423T073919
CREATED:20170927T214114Z
LAST-MODIFIED:20170927T214114Z
UID:1987-1762596000-1762610400@build.c2cnd.org
SUMMARY:PetSmart Concord
DESCRIPTION:Come on out to PetSmart Concord and meet your next best friend. Please feel free to bring your family and your pet and be sure to talk with our volunteer staff. We are here to answer your questions and let you get acquainted with the pets. \nWe look forward to seeing you there!
URL:https://build.c2cnd.org/event/petsmart-concord-2025-11-08/
LOCATION:PetSmart – Concord\, 6070 Bayfield Pkwy\, Concord\, NC\, 28027\, United States
CATEGORIES:Adoption
ATTACH;FMTTYPE=image/jpeg:https://build.c2cnd.org/wp-content/uploads/2017/09/Afton-Ridge_Petsmart.jpg
ORGANIZER;CN="Catering to Cats and Dogs":MAILTO:webmaster@c2cnd.org
END:VEVENT
BEGIN:VEVENT
DTSTART;TZID=America/New_York:20251106T100000
DTEND;TZID=America/New_York:20251106T150000
DTSTAMP:20260423T073919
CREATED:20171004T203220Z
LAST-MODIFIED:20171004T203220Z
UID:1986-1762423200-1762441200@build.c2cnd.org
SUMMARY:Costume Pawty
DESCRIPTION:Super Hero Costume Pawty\n!!THIS IS A FAKE AND TEST EVENT!!\nCome decked out in your best Super dog costume! \nTerrapin Tap takeover featuring $5 drafts and $3.50 cans. \nDonations to enter the contest with 100% of proceeds given to Catering to Cats and Dogs. \n 
URL:https://build.c2cnd.org/event/costume-pawty-2025-11-06/
LOCATION:Lucky Dog Bark & Brew\, 2220 Thrift Rd\, Charlotte\, NC\, 28208\, United States
CATEGORIES:Adoption
ATTACH;FMTTYPE=image/png:https://build.c2cnd.org/wp-content/uploads/2017/09/LuckyDog-Logo1.png
ORGANIZER;CN="Catering to Cats and Dogs":MAILTO:webmaster@c2cnd.org
END:VEVENT
BEGIN:VEVENT
DTSTART;TZID=America/New_York:20251101T100000
DTEND;TZID=America/New_York:20251101T140000
DTSTAMP:20260423T073919
CREATED:20170927T214114Z
LAST-MODIFIED:20170927T214114Z
UID:1985-1761991200-1762005600@build.c2cnd.org
SUMMARY:PetSmart Concord
DESCRIPTION:Come on out to PetSmart Concord and meet your next best friend. Please feel free to bring your family and your pet and be sure to talk with our volunteer staff. We are here to answer your questions and let you get acquainted with the pets. \nWe look forward to seeing you there!
URL:https://build.c2cnd.org/event/petsmart-concord-2025-11-01/
LOCATION:PetSmart – Concord\, 6070 Bayfield Pkwy\, Concord\, NC\, 28027\, United States
CATEGORIES:Adoption
ATTACH;FMTTYPE=image/jpeg:https://build.c2cnd.org/wp-content/uploads/2017/09/Afton-Ridge_Petsmart.jpg
ORGANIZER;CN="Catering to Cats and Dogs":MAILTO:webmaster@c2cnd.org
END:VEVENT
BEGIN:VEVENT
DTSTART;TZID=America/New_York:20251030T100000
DTEND;TZID=America/New_York:20251030T150000
DTSTAMP:20260423T073919
CREATED:20171004T203220Z
LAST-MODIFIED:20171004T203220Z
UID:1984-1761818400-1761836400@build.c2cnd.org
SUMMARY:Costume Pawty
DESCRIPTION:Super Hero Costume Pawty\n!!THIS IS A FAKE AND TEST EVENT!!\nCome decked out in your best Super dog costume! \nTerrapin Tap takeover featuring $5 drafts and $3.50 cans. \nDonations to enter the contest with 100% of proceeds given to Catering to Cats and Dogs. \n 
URL:https://build.c2cnd.org/event/costume-pawty-2025-10-30/
LOCATION:Lucky Dog Bark & Brew\, 2220 Thrift Rd\, Charlotte\, NC\, 28208\, United States
CATEGORIES:Adoption
ATTACH;FMTTYPE=image/png:https://build.c2cnd.org/wp-content/uploads/2017/09/LuckyDog-Logo1.png
ORGANIZER;CN="Catering to Cats and Dogs":MAILTO:webmaster@c2cnd.org
END:VEVENT
BEGIN:VEVENT
DTSTART;TZID=America/New_York:20251025T100000
DTEND;TZID=America/New_York:20251025T140000
DTSTAMP:20260423T073919
CREATED:20170927T214114Z
LAST-MODIFIED:20170927T214114Z
UID:1983-1761386400-1761400800@build.c2cnd.org
SUMMARY:PetSmart Concord
DESCRIPTION:Come on out to PetSmart Concord and meet your next best friend. Please feel free to bring your family and your pet and be sure to talk with our volunteer staff. We are here to answer your questions and let you get acquainted with the pets. \nWe look forward to seeing you there!
URL:https://build.c2cnd.org/event/petsmart-concord-2025-10-25/
LOCATION:PetSmart – Concord\, 6070 Bayfield Pkwy\, Concord\, NC\, 28027\, United States
CATEGORIES:Adoption
ATTACH;FMTTYPE=image/jpeg:https://build.c2cnd.org/wp-content/uploads/2017/09/Afton-Ridge_Petsmart.jpg
ORGANIZER;CN="Catering to Cats and Dogs":MAILTO:webmaster@c2cnd.org
END:VEVENT
BEGIN:VEVENT
DTSTART;TZID=America/New_York:20251023T100000
DTEND;TZID=America/New_York:20251023T150000
DTSTAMP:20260423T073919
CREATED:20171004T203220Z
LAST-MODIFIED:20171004T203220Z
UID:1982-1761213600-1761231600@build.c2cnd.org
SUMMARY:Costume Pawty
DESCRIPTION:Super Hero Costume Pawty\n!!THIS IS A FAKE AND TEST EVENT!!\nCome decked out in your best Super dog costume! \nTerrapin Tap takeover featuring $5 drafts and $3.50 cans. \nDonations to enter the contest with 100% of proceeds given to Catering to Cats and Dogs. \n 
URL:https://build.c2cnd.org/event/costume-pawty-2025-10-23/
LOCATION:Lucky Dog Bark & Brew\, 2220 Thrift Rd\, Charlotte\, NC\, 28208\, United States
CATEGORIES:Adoption
ATTACH;FMTTYPE=image/png:https://build.c2cnd.org/wp-content/uploads/2017/09/LuckyDog-Logo1.png
ORGANIZER;CN="Catering to Cats and Dogs":MAILTO:webmaster@c2cnd.org
END:VEVENT
BEGIN:VEVENT
DTSTART;TZID=America/New_York:20251018T100000
DTEND;TZID=America/New_York:20251018T140000
DTSTAMP:20260423T073919
CREATED:20170930T211508Z
LAST-MODIFIED:20170930T211508Z
UID:1980-1760781600-1760796000@build.c2cnd.org
SUMMARY:PetSmart - Steel Creek
DESCRIPTION:Come on out to PetSmart Steel Creek and meet your next best friend. Please feel free to bring your family and your pet and be sure to talk with our volunteer staff. We are here to answer your questions and let you get acquainted with the pets. \nWe look forward to seeing you there!
URL:https://build.c2cnd.org/event/petsmart-steel-creek-2025-10-18/
LOCATION:PetSmart – Steel Creek\, 14137 Rivergate Pkwy\, Charlotte\, NC\, 28273\, United States
CATEGORIES:Adoption
ATTACH;FMTTYPE=image/jpeg:https://build.c2cnd.org/wp-content/uploads/2017/09/steelcreek.jpg
ORGANIZER;CN="Catering to Cats and Dogs":MAILTO:webmaster@c2cnd.org
END:VEVENT
BEGIN:VEVENT
DTSTART;TZID=America/New_York:20251018T100000
DTEND;TZID=America/New_York:20251018T140000
DTSTAMP:20260423T073919
CREATED:20170927T214114Z
LAST-MODIFIED:20170927T214114Z
UID:1981-1760781600-1760796000@build.c2cnd.org
SUMMARY:PetSmart Concord
DESCRIPTION:Come on out to PetSmart Concord and meet your next best friend. Please feel free to bring your family and your pet and be sure to talk with our volunteer staff. We are here to answer your questions and let you get acquainted with the pets. \nWe look forward to seeing you there!
URL:https://build.c2cnd.org/event/petsmart-concord-2025-10-18/
LOCATION:PetSmart – Concord\, 6070 Bayfield Pkwy\, Concord\, NC\, 28027\, United States
CATEGORIES:Adoption
ATTACH;FMTTYPE=image/jpeg:https://build.c2cnd.org/wp-content/uploads/2017/09/Afton-Ridge_Petsmart.jpg
ORGANIZER;CN="Catering to Cats and Dogs":MAILTO:webmaster@c2cnd.org
END:VEVENT
BEGIN:VEVENT
DTSTART;TZID=America/New_York:20251016T100000
DTEND;TZID=America/New_York:20251016T150000
DTSTAMP:20260423T073919
CREATED:20171004T203220Z
LAST-MODIFIED:20171004T203220Z
UID:1979-1760608800-1760626800@build.c2cnd.org
SUMMARY:Costume Pawty
DESCRIPTION:Super Hero Costume Pawty\n!!THIS IS A FAKE AND TEST EVENT!!\nCome decked out in your best Super dog costume! \nTerrapin Tap takeover featuring $5 drafts and $3.50 cans. \nDonations to enter the contest with 100% of proceeds given to Catering to Cats and Dogs. \n 
URL:https://build.c2cnd.org/event/costume-pawty-2025-10-16/
LOCATION:Lucky Dog Bark & Brew\, 2220 Thrift Rd\, Charlotte\, NC\, 28208\, United States
CATEGORIES:Adoption
ATTACH;FMTTYPE=image/png:https://build.c2cnd.org/wp-content/uploads/2017/09/LuckyDog-Logo1.png
ORGANIZER;CN="Catering to Cats and Dogs":MAILTO:webmaster@c2cnd.org
END:VEVENT
BEGIN:VEVENT
DTSTART;TZID=America/New_York:20251011T100000
DTEND;TZID=America/New_York:20251011T140000
DTSTAMP:20260423T073919
CREATED:20170927T214114Z
LAST-MODIFIED:20170927T214114Z
UID:1978-1760176800-1760191200@build.c2cnd.org
SUMMARY:PetSmart Concord
DESCRIPTION:Come on out to PetSmart Concord and meet your next best friend. Please feel free to bring your family and your pet and be sure to talk with our volunteer staff. We are here to answer your questions and let you get acquainted with the pets. \nWe look forward to seeing you there!
URL:https://build.c2cnd.org/event/petsmart-concord-2025-10-11/
LOCATION:PetSmart – Concord\, 6070 Bayfield Pkwy\, Concord\, NC\, 28027\, United States
CATEGORIES:Adoption
ATTACH;FMTTYPE=image/jpeg:https://build.c2cnd.org/wp-content/uploads/2017/09/Afton-Ridge_Petsmart.jpg
ORGANIZER;CN="Catering to Cats and Dogs":MAILTO:webmaster@c2cnd.org
END:VEVENT
BEGIN:VEVENT
DTSTART;TZID=America/New_York:20251009T100000
DTEND;TZID=America/New_York:20251009T150000
DTSTAMP:20260423T073919
CREATED:20171004T203220Z
LAST-MODIFIED:20171004T203220Z
UID:1977-1760004000-1760022000@build.c2cnd.org
SUMMARY:Costume Pawty
DESCRIPTION:Super Hero Costume Pawty\n!!THIS IS A FAKE AND TEST EVENT!!\nCome decked out in your best Super dog costume! \nTerrapin Tap takeover featuring $5 drafts and $3.50 cans. \nDonations to enter the contest with 100% of proceeds given to Catering to Cats and Dogs. \n 
URL:https://build.c2cnd.org/event/costume-pawty-2025-10-09/
LOCATION:Lucky Dog Bark & Brew\, 2220 Thrift Rd\, Charlotte\, NC\, 28208\, United States
CATEGORIES:Adoption
ATTACH;FMTTYPE=image/png:https://build.c2cnd.org/wp-content/uploads/2017/09/LuckyDog-Logo1.png
ORGANIZER;CN="Catering to Cats and Dogs":MAILTO:webmaster@c2cnd.org
END:VEVENT
BEGIN:VEVENT
DTSTART;TZID=America/New_York:20251004T100000
DTEND;TZID=America/New_York:20251004T140000
DTSTAMP:20260423T073919
CREATED:20170927T214114Z
LAST-MODIFIED:20170927T214114Z
UID:1976-1759572000-1759586400@build.c2cnd.org
SUMMARY:PetSmart Concord
DESCRIPTION:Come on out to PetSmart Concord and meet your next best friend. Please feel free to bring your family and your pet and be sure to talk with our volunteer staff. We are here to answer your questions and let you get acquainted with the pets. \nWe look forward to seeing you there!
URL:https://build.c2cnd.org/event/petsmart-concord-2025-10-04/
LOCATION:PetSmart – Concord\, 6070 Bayfield Pkwy\, Concord\, NC\, 28027\, United States
CATEGORIES:Adoption
ATTACH;FMTTYPE=image/jpeg:https://build.c2cnd.org/wp-content/uploads/2017/09/Afton-Ridge_Petsmart.jpg
ORGANIZER;CN="Catering to Cats and Dogs":MAILTO:webmaster@c2cnd.org
END:VEVENT
BEGIN:VEVENT
DTSTART;TZID=America/New_York:20251002T100000
DTEND;TZID=America/New_York:20251002T150000
DTSTAMP:20260423T073919
CREATED:20171004T203220Z
LAST-MODIFIED:20171004T203220Z
UID:1975-1759399200-1759417200@build.c2cnd.org
SUMMARY:Costume Pawty
DESCRIPTION:Super Hero Costume Pawty\n!!THIS IS A FAKE AND TEST EVENT!!\nCome decked out in your best Super dog costume! \nTerrapin Tap takeover featuring $5 drafts and $3.50 cans. \nDonations to enter the contest with 100% of proceeds given to Catering to Cats and Dogs. \n 
URL:https://build.c2cnd.org/event/costume-pawty-2025-10-02/
LOCATION:Lucky Dog Bark & Brew\, 2220 Thrift Rd\, Charlotte\, NC\, 28208\, United States
CATEGORIES:Adoption
ATTACH;FMTTYPE=image/png:https://build.c2cnd.org/wp-content/uploads/2017/09/LuckyDog-Logo1.png
ORGANIZER;CN="Catering to Cats and Dogs":MAILTO:webmaster@c2cnd.org
END:VEVENT
BEGIN:VEVENT
DTSTART;TZID=America/New_York:20250927T100000
DTEND;TZID=America/New_York:20250927T140000
DTSTAMP:20260423T073919
CREATED:20170927T214114Z
LAST-MODIFIED:20170927T214114Z
UID:1974-1758967200-1758981600@build.c2cnd.org
SUMMARY:PetSmart Concord
DESCRIPTION:Come on out to PetSmart Concord and meet your next best friend. Please feel free to bring your family and your pet and be sure to talk with our volunteer staff. We are here to answer your questions and let you get acquainted with the pets. \nWe look forward to seeing you there!
URL:https://build.c2cnd.org/event/petsmart-concord-2025-09-27/
LOCATION:PetSmart – Concord\, 6070 Bayfield Pkwy\, Concord\, NC\, 28027\, United States
CATEGORIES:Adoption
ATTACH;FMTTYPE=image/jpeg:https://build.c2cnd.org/wp-content/uploads/2017/09/Afton-Ridge_Petsmart.jpg
ORGANIZER;CN="Catering to Cats and Dogs":MAILTO:webmaster@c2cnd.org
END:VEVENT
BEGIN:VEVENT
DTSTART;TZID=America/New_York:20250925T100000
DTEND;TZID=America/New_York:20250925T150000
DTSTAMP:20260423T073919
CREATED:20171004T203220Z
LAST-MODIFIED:20171004T203220Z
UID:1973-1758794400-1758812400@build.c2cnd.org
SUMMARY:Costume Pawty
DESCRIPTION:Super Hero Costume Pawty\n!!THIS IS A FAKE AND TEST EVENT!!\nCome decked out in your best Super dog costume! \nTerrapin Tap takeover featuring $5 drafts and $3.50 cans. \nDonations to enter the contest with 100% of proceeds given to Catering to Cats and Dogs. \n 
URL:https://build.c2cnd.org/event/costume-pawty-2025-09-25/
LOCATION:Lucky Dog Bark & Brew\, 2220 Thrift Rd\, Charlotte\, NC\, 28208\, United States
CATEGORIES:Adoption
ATTACH;FMTTYPE=image/png:https://build.c2cnd.org/wp-content/uploads/2017/09/LuckyDog-Logo1.png
ORGANIZER;CN="Catering to Cats and Dogs":MAILTO:webmaster@c2cnd.org
END:VEVENT
BEGIN:VEVENT
DTSTART;TZID=America/New_York:20250920T100000
DTEND;TZID=America/New_York:20250920T140000
DTSTAMP:20260423T073919
CREATED:20170930T211508Z
LAST-MODIFIED:20170930T211508Z
UID:1971-1758362400-1758376800@build.c2cnd.org
SUMMARY:PetSmart - Steel Creek
DESCRIPTION:Come on out to PetSmart Steel Creek and meet your next best friend. Please feel free to bring your family and your pet and be sure to talk with our volunteer staff. We are here to answer your questions and let you get acquainted with the pets. \nWe look forward to seeing you there!
URL:https://build.c2cnd.org/event/petsmart-steel-creek-2025-09-20/
LOCATION:PetSmart – Steel Creek\, 14137 Rivergate Pkwy\, Charlotte\, NC\, 28273\, United States
CATEGORIES:Adoption
ATTACH;FMTTYPE=image/jpeg:https://build.c2cnd.org/wp-content/uploads/2017/09/steelcreek.jpg
ORGANIZER;CN="Catering to Cats and Dogs":MAILTO:webmaster@c2cnd.org
END:VEVENT
BEGIN:VEVENT
DTSTART;TZID=America/New_York:20250920T100000
DTEND;TZID=America/New_York:20250920T140000
DTSTAMP:20260423T073919
CREATED:20170927T214114Z
LAST-MODIFIED:20170927T214114Z
UID:1972-1758362400-1758376800@build.c2cnd.org
SUMMARY:PetSmart Concord
DESCRIPTION:Come on out to PetSmart Concord and meet your next best friend. Please feel free to bring your family and your pet and be sure to talk with our volunteer staff. We are here to answer your questions and let you get acquainted with the pets. \nWe look forward to seeing you there!
URL:https://build.c2cnd.org/event/petsmart-concord-2025-09-20/
LOCATION:PetSmart – Concord\, 6070 Bayfield Pkwy\, Concord\, NC\, 28027\, United States
CATEGORIES:Adoption
ATTACH;FMTTYPE=image/jpeg:https://build.c2cnd.org/wp-content/uploads/2017/09/Afton-Ridge_Petsmart.jpg
ORGANIZER;CN="Catering to Cats and Dogs":MAILTO:webmaster@c2cnd.org
END:VEVENT
END:VCALENDAR