BEGIN:VCALENDAR
VERSION:2.0
PRODID:-//C2CND - ECPv6.9.0//NONSGML v1.0//EN
CALSCALE:GREGORIAN
METHOD:PUBLISH
X-ORIGINAL-URL:https://build.c2cnd.org
X-WR-CALDESC:Events for C2CND
REFRESH-INTERVAL;VALUE=DURATION:PT1H
X-Robots-Tag:noindex
X-PUBLISHED-TTL:PT1H
BEGIN:VTIMEZONE
TZID:America/New_York
BEGIN:DAYLIGHT
TZOFFSETFROM:-0500
TZOFFSETTO:-0400
TZNAME:EDT
DTSTART:20260308T070000
END:DAYLIGHT
BEGIN:STANDARD
TZOFFSETFROM:-0400
TZOFFSETTO:-0500
TZNAME:EST
DTSTART:20261101T060000
END:STANDARD
END:VTIMEZONE
BEGIN:VEVENT
DTSTART;TZID=America/New_York:20260103T100000
DTEND;TZID=America/New_York:20260103T140000
DTSTAMP:20260423T073820
CREATED:20170927T214114Z
LAST-MODIFIED:20170927T214114Z
UID:2005-1767434400-1767448800@build.c2cnd.org
SUMMARY:PetSmart Concord
DESCRIPTION:Come on out to PetSmart Concord and meet your next best friend. Please feel free to bring your family and your pet and be sure to talk with our volunteer staff. We are here to answer your questions and let you get acquainted with the pets. \nWe look forward to seeing you there!
URL:https://build.c2cnd.org/event/petsmart-concord-2026-01-03/
LOCATION:PetSmart – Concord\, 6070 Bayfield Pkwy\, Concord\, NC\, 28027\, United States
CATEGORIES:Adoption
ATTACH;FMTTYPE=image/jpeg:https://build.c2cnd.org/wp-content/uploads/2017/09/Afton-Ridge_Petsmart.jpg
ORGANIZER;CN="Catering to Cats and Dogs":MAILTO:webmaster@c2cnd.org
END:VEVENT
BEGIN:VEVENT
DTSTART;TZID=America/New_York:20260108T100000
DTEND;TZID=America/New_York:20260108T150000
DTSTAMP:20260423T073820
CREATED:20171004T203220Z
LAST-MODIFIED:20171004T203220Z
UID:2006-1767866400-1767884400@build.c2cnd.org
SUMMARY:Costume Pawty
DESCRIPTION:Super Hero Costume Pawty\n!!THIS IS A FAKE AND TEST EVENT!!\nCome decked out in your best Super dog costume! \nTerrapin Tap takeover featuring $5 drafts and $3.50 cans. \nDonations to enter the contest with 100% of proceeds given to Catering to Cats and Dogs. \n 
URL:https://build.c2cnd.org/event/costume-pawty-2026-01-08/
LOCATION:Lucky Dog Bark & Brew\, 2220 Thrift Rd\, Charlotte\, NC\, 28208\, United States
CATEGORIES:Adoption
ATTACH;FMTTYPE=image/png:https://build.c2cnd.org/wp-content/uploads/2017/09/LuckyDog-Logo1.png
ORGANIZER;CN="Catering to Cats and Dogs":MAILTO:webmaster@c2cnd.org
END:VEVENT
BEGIN:VEVENT
DTSTART;TZID=America/New_York:20260110T100000
DTEND;TZID=America/New_York:20260110T140000
DTSTAMP:20260423T073820
CREATED:20170927T214114Z
LAST-MODIFIED:20170927T214114Z
UID:2008-1768039200-1768053600@build.c2cnd.org
SUMMARY:PetSmart Concord
DESCRIPTION:Come on out to PetSmart Concord and meet your next best friend. Please feel free to bring your family and your pet and be sure to talk with our volunteer staff. We are here to answer your questions and let you get acquainted with the pets. \nWe look forward to seeing you there!
URL:https://build.c2cnd.org/event/petsmart-concord-2026-01-10/
LOCATION:PetSmart – Concord\, 6070 Bayfield Pkwy\, Concord\, NC\, 28027\, United States
CATEGORIES:Adoption
ATTACH;FMTTYPE=image/jpeg:https://build.c2cnd.org/wp-content/uploads/2017/09/Afton-Ridge_Petsmart.jpg
ORGANIZER;CN="Catering to Cats and Dogs":MAILTO:webmaster@c2cnd.org
END:VEVENT
BEGIN:VEVENT
DTSTART;TZID=America/New_York:20260110T100000
DTEND;TZID=America/New_York:20260110T140000
DTSTAMP:20260423T073820
CREATED:20170930T211508Z
LAST-MODIFIED:20170930T211508Z
UID:2007-1768039200-1768053600@build.c2cnd.org
SUMMARY:PetSmart - Steel Creek
DESCRIPTION:Come on out to PetSmart Steel Creek and meet your next best friend. Please feel free to bring your family and your pet and be sure to talk with our volunteer staff. We are here to answer your questions and let you get acquainted with the pets. \nWe look forward to seeing you there!
URL:https://build.c2cnd.org/event/petsmart-steel-creek-2026-01-10/
LOCATION:PetSmart – Steel Creek\, 14137 Rivergate Pkwy\, Charlotte\, NC\, 28273\, United States
CATEGORIES:Adoption
ATTACH;FMTTYPE=image/jpeg:https://build.c2cnd.org/wp-content/uploads/2017/09/steelcreek.jpg
ORGANIZER;CN="Catering to Cats and Dogs":MAILTO:webmaster@c2cnd.org
END:VEVENT
BEGIN:VEVENT
DTSTART;TZID=America/New_York:20260115T100000
DTEND;TZID=America/New_York:20260115T150000
DTSTAMP:20260423T073820
CREATED:20171004T203220Z
LAST-MODIFIED:20171004T203220Z
UID:2009-1768471200-1768489200@build.c2cnd.org
SUMMARY:Costume Pawty
DESCRIPTION:Super Hero Costume Pawty\n!!THIS IS A FAKE AND TEST EVENT!!\nCome decked out in your best Super dog costume! \nTerrapin Tap takeover featuring $5 drafts and $3.50 cans. \nDonations to enter the contest with 100% of proceeds given to Catering to Cats and Dogs. \n 
URL:https://build.c2cnd.org/event/costume-pawty-2026-01-15/
LOCATION:Lucky Dog Bark & Brew\, 2220 Thrift Rd\, Charlotte\, NC\, 28208\, United States
CATEGORIES:Adoption
ATTACH;FMTTYPE=image/png:https://build.c2cnd.org/wp-content/uploads/2017/09/LuckyDog-Logo1.png
ORGANIZER;CN="Catering to Cats and Dogs":MAILTO:webmaster@c2cnd.org
END:VEVENT
BEGIN:VEVENT
DTSTART;TZID=America/New_York:20260117T100000
DTEND;TZID=America/New_York:20260117T140000
DTSTAMP:20260423T073820
CREATED:20170927T214114Z
LAST-MODIFIED:20170927T214114Z
UID:2010-1768644000-1768658400@build.c2cnd.org
SUMMARY:PetSmart Concord
DESCRIPTION:Come on out to PetSmart Concord and meet your next best friend. Please feel free to bring your family and your pet and be sure to talk with our volunteer staff. We are here to answer your questions and let you get acquainted with the pets. \nWe look forward to seeing you there!
URL:https://build.c2cnd.org/event/petsmart-concord-2026-01-17/
LOCATION:PetSmart – Concord\, 6070 Bayfield Pkwy\, Concord\, NC\, 28027\, United States
CATEGORIES:Adoption
ATTACH;FMTTYPE=image/jpeg:https://build.c2cnd.org/wp-content/uploads/2017/09/Afton-Ridge_Petsmart.jpg
ORGANIZER;CN="Catering to Cats and Dogs":MAILTO:webmaster@c2cnd.org
END:VEVENT
END:VCALENDAR