BEGIN:VCALENDAR
VERSION:2.0
PRODID:-//C2CND - ECPv6.9.0//NONSGML v1.0//EN
CALSCALE:GREGORIAN
METHOD:PUBLISH
X-WR-CALNAME:C2CND
X-ORIGINAL-URL:https://build.c2cnd.org
X-WR-CALDESC:Events for C2CND
REFRESH-INTERVAL;VALUE=DURATION:PT1H
X-Robots-Tag:noindex
X-PUBLISHED-TTL:PT1H
BEGIN:VTIMEZONE
TZID:America/New_York
BEGIN:DAYLIGHT
TZOFFSETFROM:-0500
TZOFFSETTO:-0400
TZNAME:EDT
DTSTART:20250309T070000
END:DAYLIGHT
BEGIN:STANDARD
TZOFFSETFROM:-0400
TZOFFSETTO:-0500
TZNAME:EST
DTSTART:20251102T060000
END:STANDARD
END:VTIMEZONE
BEGIN:VEVENT
DTSTART;TZID=America/New_York:20251227T100000
DTEND;TZID=America/New_York:20251227T140000
DTSTAMP:20260423T074639
CREATED:20170927T214114Z
LAST-MODIFIED:20170927T214114Z
UID:2003-1766829600-1766844000@build.c2cnd.org
SUMMARY:PetSmart Concord
DESCRIPTION:Come on out to PetSmart Concord and meet your next best friend. Please feel free to bring your family and your pet and be sure to talk with our volunteer staff. We are here to answer your questions and let you get acquainted with the pets. \nWe look forward to seeing you there!
URL:https://build.c2cnd.org/event/petsmart-concord-2025-12-27/
LOCATION:PetSmart – Concord\, 6070 Bayfield Pkwy\, Concord\, NC\, 28027\, United States
CATEGORIES:Adoption
ATTACH;FMTTYPE=image/jpeg:https://build.c2cnd.org/wp-content/uploads/2017/09/Afton-Ridge_Petsmart.jpg
ORGANIZER;CN="Catering to Cats and Dogs":MAILTO:webmaster@c2cnd.org
END:VEVENT
END:VCALENDAR